BEGIN:VCALENDAR
VERSION:2.0
PRODID:-//hacksw/handcal//NONSGML v1.0//EN
BEGIN:VEVENT
SUMMARY:Rando du Chavaroux
UID:7090bdac-52a7-4370-9416-c3ca60d0d0cd
DTSTART:20260321T100000Z
DTEND:20260321T160000Z
LOCATION:Localisation 93 AVENUE DU BOURG 38790 CHARANTONNAY
CATEGORIES:Sportif
STATUS:
DESCRIPTION:<table>
 	<thead>
 		<tr>
 			<th
 scope="col">
 			<p>Parcours</p>
 			</th>
 			<th
 scope="col">Route</th>
 			<th scope="col">VTT</th>
 			<th
 scope="col">Gravel</th>
 			<th
 scope="col">Marche</th>
 		</tr>
 	</thead>
 	<tbody>
 		<tr>
 			<th
 scope="row">1</th>
 			<td>
 			<table>
 				<tbody>
 					<tr>
 						<td>30
 km</td>
 						<td>Facile</td>
 					</tr>
 				</tbody>
 			</table>
 			</td>
 			<td>
 			<table>
 				<tbody>
 					<tr>
 						<td>20
 km</td>
 						<td>Tres
 facile</td>
 					</tr>
 				</tbody>
 			</table>
 			</td>
 			<td>
 			<table>
 				<tbody>
 					<tr>
 						<td>50
 km</td>
 						<td>Facile</td>
 					</tr>
 				</tbody>
 			</table>
 			</td>
 			<td>
 			<table>
 				<tbody>
 					<tr>
 						<td>8
 km</td>
 					</tr>
 				</tbody>
 			</table>
 			</td>
 		</tr>
 		<tr>
 			<th
 scope="row">2</th>
 			<td>
 			<table>
 				<tbody>
 					<tr>
 						<td>60
 km</td>
 						<td>Facile</td>
 					</tr>
 				</tbody>
 			</table>
 			</td>
 			<td>
 			<table>
 				<tbody>
 					<tr>
 						<td>40
 km</td>
 						<td>Facile</td>
 					</tr>
 				</tbody>
 			</table>
 			</td>
 			<td> </td>
 			<td>
 			<table>
 				<tbody>
 					<tr>
 						<td>14
 km</td>
 					</tr>
 				</tbody>
 			</table>
 			</td>
 		</tr>
 		<tr>
 			<th
 scope="row">3</th>
 			<td>
 			<table>
 				<tbody>
 					<tr>
 						<td>80
 km</td>
 						<td>Difficile</td>
 					</tr>
 				</tbody>
 			</table>
 			</td>
 		</tr>
 	</tbody>
 </table>
 
 <p><span
 style="color:#f39c12;"><strong>POUR CHANGER
 D'HORIZON</strong></span></p>
 
 <p>Inscription : 7
 €</p>
 
 <p>Possibilite de faire du covoiturage au depart de notre
 garage, 10 rue des Ecoles a Sathonay-cam, rendez-vous a 9
 h45</p>
 
 <p>Pour plus d'information :</p>
 
 <p><a
 href="https://velo-club-charantonnay.clubeo.com/" target="_blank"
 rel="noreferrer
 noopener">https://velo-club-charantonnay.clubeo.com/</a></p>
URL;VALUE=URI:https://velocio69.sportsregions.fr/evenements/2026/03/21/rando-du-chavaroux-2429490
END:VEVENT
END:VCALENDAR
