BEGIN:VCALENDAR
VERSION:2.0
PRODID:-//hacksw/handcal//NONSGML v1.0//EN
BEGIN:VEVENT
SUMMARY:Sortie PQ-NQ Dimanche de Paques
UID:5e357aeb-b5f9-4733-8a4b-6ccac055dbfc
DTSTART:20260405T080000Z
DTEND:20260405T140000Z
LOCATION:Velocio69 point depart sortie 1 Place Thevenot 69580 SATHONAY CAMP
CATEGORIES:Sportif
STATUS:
DESCRIPTION:<p>Je vous emmene pique-niquer a la chapelle de Notre
 Dame de Buisante a Pommier avec panorama a 360 degres, en ce dimanche
 des fetes de Paques, par une balade au depart de Sathonay-camp avec
 possibilite de nous rejoindre au stade de Fontaines sur
 Saone.</p>
 
 <p>Distance 76 Km et 830 m de denivele</p>
 
 <p><a
 href="https://www.openrunner.com/route-details/16728824"
 target="_blank" rel="noreferrer
 noopener">https://www.openrunner.com/route-details/16728824</a></p>
 
 <p>nb
 : ce n'est pas une poisson d'avril</p>
URL;VALUE=URI:https://velocio69.sportsregions.fr/evenements/2026/04/05/sortie-pq-nq-dimanche-de-paques-2436176
END:VEVENT
END:VCALENDAR
